BEGIN:VCALENDAR
VERSION:2.0
PRODID:-//Georgia Al-Anon - ECPv6.15.17.1//NONSGML v1.0//EN
CALSCALE:GREGORIAN
METHOD:PUBLISH
X-WR-CALNAME:Georgia Al-Anon
X-ORIGINAL-URL:https://www.ga-al-anon.org
X-WR-CALDESC:Events for Georgia Al-Anon
REFRESH-INTERVAL;VALUE=DURATION:PT1H
X-Robots-Tag:noindex
X-PUBLISHED-TTL:PT1H
BEGIN:VTIMEZONE
TZID:America/New_York
BEGIN:DAYLIGHT
TZOFFSETFROM:-0500
TZOFFSETTO:-0400
TZNAME:EDT
DTSTART:20250309T070000
END:DAYLIGHT
BEGIN:STANDARD
TZOFFSETFROM:-0400
TZOFFSETTO:-0500
TZNAME:EST
DTSTART:20251102T060000
END:STANDARD
BEGIN:DAYLIGHT
TZOFFSETFROM:-0500
TZOFFSETTO:-0400
TZNAME:EDT
DTSTART:20260308T070000
END:DAYLIGHT
BEGIN:STANDARD
TZOFFSETFROM:-0400
TZOFFSETTO:-0500
TZNAME:EST
DTSTART:20261101T060000
END:STANDARD
BEGIN:DAYLIGHT
TZOFFSETFROM:-0500
TZOFFSETTO:-0400
TZNAME:EDT
DTSTART:20270314T070000
END:DAYLIGHT
BEGIN:STANDARD
TZOFFSETFROM:-0400
TZOFFSETTO:-0500
TZNAME:EST
DTSTART:20271107T060000
END:STANDARD
END:VTIMEZONE
BEGIN:VEVENT
DTSTART;VALUE=DATE:20260117
DTEND;VALUE=DATE:20260119
DTSTAMP:20260420T220539
CREATED:20251120T180417Z
LAST-MODIFIED:20251216T014909Z
UID:10000698-1768608000-1768780799@www.ga-al-anon.org
SUMMARY:Assembly - January 17-18\, 2026
DESCRIPTION:Area Assembly at Macon Marriott.January 17-18\, 2026\n\n_____________________________________________________________________________\n\n\nReservation Information:Area Assembly January 2026 \nStart Date: Friday\, January 16\, 2026\nEnd Date: Sunday\, January 18\, 2026\n\n\nMacon Marriott City Center for $129.00 per night – Last day to book: Thursday\, January 1\, 2026478-216-7811 \nBook your group rate for Area Assembly January 2026 \n____________________________________________________________________________Additionally\, rooms are available at:Candlewood Suites3957 River Place DriveMacon\, GA 31210478-200-7525Candlewood Suites for $99.00 per night – Last day to book:  Wednesday\, December 17\, 2025
URL:https://www.ga-al-anon.org/event/assembly-january-2026/
LOCATION:Macon Marriott City Center\, 240 Coliseum Dr\, Macon\, GA\, 31217\, United States
CATEGORIES:Al-Anon Workshops & Conferences,Area 11 Business Meetings,Events,Homepage
ATTACH;FMTTYPE=image/jpeg:https://www.ga-al-anon.org/wp-content/uploads/2023/10/September-2023-District-Map-with-Overlay-Districts.jpeg
END:VEVENT
END:VCALENDAR