BEGIN:VCALENDAR
VERSION:2.0
PRODID:-//Georgia Al-Anon - ECPv6.15.17.1//NONSGML v1.0//EN
CALSCALE:GREGORIAN
METHOD:PUBLISH
X-ORIGINAL-URL:https://www.ga-al-anon.org
X-WR-CALDESC:Events for Georgia Al-Anon
REFRESH-INTERVAL;VALUE=DURATION:PT1H
X-Robots-Tag:noindex
X-PUBLISHED-TTL:PT1H
BEGIN:VTIMEZONE
TZID:America/New_York
BEGIN:DAYLIGHT
TZOFFSETFROM:-0500
TZOFFSETTO:-0400
TZNAME:EDT
DTSTART:20240310T070000
END:DAYLIGHT
BEGIN:STANDARD
TZOFFSETFROM:-0400
TZOFFSETTO:-0500
TZNAME:EST
DTSTART:20241103T060000
END:STANDARD
BEGIN:DAYLIGHT
TZOFFSETFROM:-0500
TZOFFSETTO:-0400
TZNAME:EDT
DTSTART:20250309T070000
END:DAYLIGHT
BEGIN:STANDARD
TZOFFSETFROM:-0400
TZOFFSETTO:-0500
TZNAME:EST
DTSTART:20251102T060000
END:STANDARD
BEGIN:DAYLIGHT
TZOFFSETFROM:-0500
TZOFFSETTO:-0400
TZNAME:EDT
DTSTART:20260308T070000
END:DAYLIGHT
BEGIN:STANDARD
TZOFFSETFROM:-0400
TZOFFSETTO:-0500
TZNAME:EST
DTSTART:20261101T060000
END:STANDARD
END:VTIMEZONE
BEGIN:VEVENT
DTSTART;TZID=America/New_York:20251113T103000
DTEND;TZID=America/New_York:20251113T113000
DTSTAMP:20260420T220750
CREATED:20251017T220751Z
LAST-MODIFIED:20251021T160238Z
UID:10000697-1763029800-1763033400@www.ga-al-anon.org
SUMMARY:Thursday's Hope AFG Anniversary Luncheon
DESCRIPTION:Thursday’s Hope AFGInvites You ToJoin us as we celebrate our 18th Anniversary!Please bring a dish to share\nSpeaker:  Mary C\n \nThursday\, November 13\, 202510:30 AM\nSt. John’s Baptist Church6910 McGinnis Ferry RoadAlpharetta\, GA 30005\nWonderful fellowship and speaker!Delicious Food!
URL:https://www.ga-al-anon.org/event/thursdays-hope-afg-anniversary-luncheon/
LOCATION:Johns Creek Baptist Church\, 6910 McGinnis Ferry Road\, Alpharetta\, Georgia\, 300005
CATEGORIES:Events,Homepage,Speaker Meetings
ATTACH;FMTTYPE=image/png:https://www.ga-al-anon.org/wp-content/uploads/2025/10/Screenshot-2025-10-17-174957.png
END:VEVENT
END:VCALENDAR