BEGIN:VCALENDAR
VERSION:2.0
PRODID:-//Georgia Al-Anon - ECPv6.15.17.1//NONSGML v1.0//EN
CALSCALE:GREGORIAN
METHOD:PUBLISH
X-WR-CALNAME:Georgia Al-Anon
X-ORIGINAL-URL:https://www.ga-al-anon.org
X-WR-CALDESC:Events for Georgia Al-Anon
REFRESH-INTERVAL;VALUE=DURATION:PT1H
X-Robots-Tag:noindex
X-PUBLISHED-TTL:PT1H
BEGIN:VTIMEZONE
TZID:America/New_York
BEGIN:DAYLIGHT
TZOFFSETFROM:-0500
TZOFFSETTO:-0400
TZNAME:EDT
DTSTART:20240310T070000
END:DAYLIGHT
BEGIN:STANDARD
TZOFFSETFROM:-0400
TZOFFSETTO:-0500
TZNAME:EST
DTSTART:20241103T060000
END:STANDARD
BEGIN:DAYLIGHT
TZOFFSETFROM:-0500
TZOFFSETTO:-0400
TZNAME:EDT
DTSTART:20250309T070000
END:DAYLIGHT
BEGIN:STANDARD
TZOFFSETFROM:-0400
TZOFFSETTO:-0500
TZNAME:EST
DTSTART:20251102T060000
END:STANDARD
BEGIN:DAYLIGHT
TZOFFSETFROM:-0500
TZOFFSETTO:-0400
TZNAME:EDT
DTSTART:20260308T070000
END:DAYLIGHT
BEGIN:STANDARD
TZOFFSETFROM:-0400
TZOFFSETTO:-0500
TZNAME:EST
DTSTART:20261101T060000
END:STANDARD
END:VTIMEZONE
BEGIN:VEVENT
DTSTART;TZID=America/New_York:20251108T090000
DTEND;TZID=America/New_York:20251108T140000
DTSTAMP:20260420T233042
CREATED:20250807T202237Z
LAST-MODIFIED:20251107T230547Z
UID:10000691-1762592400-1762610400@www.ga-al-anon.org
SUMMARY:Reaching Out - The Key to Recovery
DESCRIPTION:Join the Georgia District 9 Workshop:REACHING OUT – THE KEY TO RECOVERY \nSaturday\, November 8\, 20259:00 AM – 2:00 PM \nFeaturing two sessions:Reaching Out Through Sponsorshipwith Ann L. and CoreyandBreaking Free from Isolationwith Alice H. \nThe Luncheon Speaker:Sheree W. from Decatur\, GA. \nLight breakfast\, beverages\, and lunchwill be provided. \nNorthminister Presbyterian Church2400 Old Alabama RdRoswell\, GA 30076Look for Al-Anon signs for parking. \nEMAIL ALANONDISTRICT9REP@GMAIL.COM WITH QUESTIONS.
URL:https://www.ga-al-anon.org/event/reaching-out-the-key-to-recovery/
LOCATION:Northminister Presbyterian Church\, 2400 Old Alabama Rd\, Roswell\, GA\, 30076\, United States
CATEGORIES:Al-Anon Workshops & Conferences,Events,Homepage
ATTACH;FMTTYPE=image/png:https://www.ga-al-anon.org/wp-content/uploads/2025/08/Screenshot-2025-11-03-145810.png
END:VEVENT
END:VCALENDAR